BEGIN:VCALENDAR
VERSION:2.0
PRODID:-//Holy Trinity C of E Nursery and Primary School - ECPv6.15.20//NONSGML v1.0//EN
CALSCALE:GREGORIAN
METHOD:PUBLISH
X-WR-CALNAME:Holy Trinity C of E Nursery and Primary School
X-ORIGINAL-URL:https://www.holytrinity-gravesend.kent.sch.uk
X-WR-CALDESC:Events for Holy Trinity C of E Nursery and Primary School
REFRESH-INTERVAL;VALUE=DURATION:PT1H
X-Robots-Tag:noindex
X-PUBLISHED-TTL:PT1H
BEGIN:VTIMEZONE
TZID:Europe/London
BEGIN:DAYLIGHT
TZOFFSETFROM:+0000
TZOFFSETTO:+0100
TZNAME:BST
DTSTART:20220327T010000
END:DAYLIGHT
BEGIN:STANDARD
TZOFFSETFROM:+0100
TZOFFSETTO:+0000
TZNAME:GMT
DTSTART:20221030T010000
END:STANDARD
BEGIN:DAYLIGHT
TZOFFSETFROM:+0000
TZOFFSETTO:+0100
TZNAME:BST
DTSTART:20230326T010000
END:DAYLIGHT
BEGIN:STANDARD
TZOFFSETFROM:+0100
TZOFFSETTO:+0000
TZNAME:GMT
DTSTART:20231029T010000
END:STANDARD
BEGIN:DAYLIGHT
TZOFFSETFROM:+0000
TZOFFSETTO:+0100
TZNAME:BST
DTSTART:20240331T010000
END:DAYLIGHT
BEGIN:STANDARD
TZOFFSETFROM:+0100
TZOFFSETTO:+0000
TZNAME:GMT
DTSTART:20241027T010000
END:STANDARD
END:VTIMEZONE
BEGIN:VEVENT
DTSTART;VALUE=DATE:20230929
DTEND;VALUE=DATE:20230930
DTSTAMP:20260423T081756
CREATED:20230926T144247Z
LAST-MODIFIED:20230926T144326Z
UID:16305-1695945600-1696031999@www.holytrinity-gravesend.kent.sch.uk
SUMMARY:Trust Development Day
DESCRIPTION:School Closed to Pupils
URL:https://www.holytrinity-gravesend.kent.sch.uk/event/trust-development-day/
CATEGORIES:Term Dates
END:VEVENT
BEGIN:VEVENT
DTSTART;VALUE=DATE:20230830
DTEND;VALUE=DATE:20230831
DTSTAMP:20260423T081756
CREATED:20230926T142100Z
LAST-MODIFIED:20230926T142100Z
UID:16299-1693353600-1693439999@www.holytrinity-gravesend.kent.sch.uk
SUMMARY:Preparation Day
DESCRIPTION:
URL:https://www.holytrinity-gravesend.kent.sch.uk/event/preparation-day/
CATEGORIES:Term Dates
END:VEVENT
END:VCALENDAR