BEGIN:VCALENDAR
VERSION:2.0
PRODID:-//Holy Trinity C of E Nursery and Primary School - ECPv6.15.20//NONSGML v1.0//EN
CALSCALE:GREGORIAN
METHOD:PUBLISH
X-WR-CALNAME:Holy Trinity C of E Nursery and Primary School
X-ORIGINAL-URL:https://www.holytrinity-gravesend.kent.sch.uk
X-WR-CALDESC:Events for Holy Trinity C of E Nursery and Primary School
REFRESH-INTERVAL;VALUE=DURATION:PT1H
X-Robots-Tag:noindex
X-PUBLISHED-TTL:PT1H
BEGIN:VTIMEZONE
TZID:Europe/London
BEGIN:DAYLIGHT
TZOFFSETFROM:+0000
TZOFFSETTO:+0100
TZNAME:BST
DTSTART:20220327T010000
END:DAYLIGHT
BEGIN:STANDARD
TZOFFSETFROM:+0100
TZOFFSETTO:+0000
TZNAME:GMT
DTSTART:20221030T010000
END:STANDARD
BEGIN:DAYLIGHT
TZOFFSETFROM:+0000
TZOFFSETTO:+0100
TZNAME:BST
DTSTART:20230326T010000
END:DAYLIGHT
BEGIN:STANDARD
TZOFFSETFROM:+0100
TZOFFSETTO:+0000
TZNAME:GMT
DTSTART:20231029T010000
END:STANDARD
BEGIN:DAYLIGHT
TZOFFSETFROM:+0000
TZOFFSETTO:+0100
TZNAME:BST
DTSTART:20240331T010000
END:DAYLIGHT
BEGIN:STANDARD
TZOFFSETFROM:+0100
TZOFFSETTO:+0000
TZNAME:GMT
DTSTART:20241027T010000
END:STANDARD
BEGIN:DAYLIGHT
TZOFFSETFROM:+0000
TZOFFSETTO:+0100
TZNAME:BST
DTSTART:20250330T010000
END:DAYLIGHT
BEGIN:STANDARD
TZOFFSETFROM:+0100
TZOFFSETTO:+0000
TZNAME:GMT
DTSTART:20251026T010000
END:STANDARD
BEGIN:DAYLIGHT
TZOFFSETFROM:+0000
TZOFFSETTO:+0100
TZNAME:BST
DTSTART:20260329T010000
END:DAYLIGHT
BEGIN:STANDARD
TZOFFSETFROM:+0100
TZOFFSETTO:+0000
TZNAME:GMT
DTSTART:20261025T010000
END:STANDARD
END:VTIMEZONE
BEGIN:VEVENT
DTSTART;VALUE=DATE:20250723
DTEND;VALUE=DATE:20250724
DTSTAMP:20260423T054619
CREATED:20220907T115033Z
LAST-MODIFIED:20240729T200220Z
UID:12310-1753228800-1753315199@www.holytrinity-gravesend.kent.sch.uk
SUMMARY:The Last day of school
DESCRIPTION:
URL:https://www.holytrinity-gravesend.kent.sch.uk/event/the-last-day-of-school-school/
CATEGORIES:Term Dates
END:VEVENT
BEGIN:VEVENT
DTSTART;VALUE=DATE:20250707
DTEND;VALUE=DATE:20250708
DTSTAMP:20260423T054619
CREATED:20220907T114947Z
LAST-MODIFIED:20240729T200204Z
UID:12304-1751846400-1751932799@www.holytrinity-gravesend.kent.sch.uk
SUMMARY:Staff inset day - children not in school.
DESCRIPTION:
URL:https://www.holytrinity-gravesend.kent.sch.uk/event/staff-inset-day-children-not-in-school-6/
CATEGORIES:Term Dates
END:VEVENT
BEGIN:VEVENT
DTSTART;VALUE=DATE:20250602
DTEND;VALUE=DATE:20250603
DTSTAMP:20260423T054619
CREATED:20220907T114753Z
LAST-MODIFIED:20240729T200148Z
UID:12298-1748822400-1748908799@www.holytrinity-gravesend.kent.sch.uk
SUMMARY:First day of Term 6.
DESCRIPTION:
URL:https://www.holytrinity-gravesend.kent.sch.uk/event/first-day-of-term-6-2/
CATEGORIES:Term Dates
END:VEVENT
BEGIN:VEVENT
DTSTART;VALUE=DATE:20250523
DTEND;VALUE=DATE:20250524
DTSTAMP:20260423T054619
CREATED:20220907T114753Z
LAST-MODIFIED:20240729T200134Z
UID:12297-1747958400-1748044799@www.holytrinity-gravesend.kent.sch.uk
SUMMARY:Last day of Term 5
DESCRIPTION:
URL:https://www.holytrinity-gravesend.kent.sch.uk/event/last-day-of-term-5/
CATEGORIES:Term Dates
END:VEVENT
BEGIN:VEVENT
DTSTART;VALUE=DATE:20250505
DTEND;VALUE=DATE:20250506
DTSTAMP:20260423T054619
CREATED:20220907T114553Z
LAST-MODIFIED:20240729T200119Z
UID:12293-1746403200-1746489599@www.holytrinity-gravesend.kent.sch.uk
SUMMARY:Bank Holiday.
DESCRIPTION:
URL:https://www.holytrinity-gravesend.kent.sch.uk/event/bank-holiday-2/
CATEGORIES:Term Dates
END:VEVENT
BEGIN:VEVENT
DTSTART;VALUE=DATE:20250422
DTEND;VALUE=DATE:20250423
DTSTAMP:20260423T054619
CREATED:20220907T114553Z
LAST-MODIFIED:20240729T200040Z
UID:12291-1745280000-1745366399@www.holytrinity-gravesend.kent.sch.uk
SUMMARY:First day of Term 5.
DESCRIPTION:
URL:https://www.holytrinity-gravesend.kent.sch.uk/event/first-day-of-term-5-2/
CATEGORIES:Term Dates
END:VEVENT
BEGIN:VEVENT
DTSTART;VALUE=DATE:20250404
DTEND;VALUE=DATE:20250405
DTSTAMP:20260423T054619
CREATED:20220907T114553Z
LAST-MODIFIED:20240729T200022Z
UID:12289-1743724800-1743811199@www.holytrinity-gravesend.kent.sch.uk
SUMMARY:Last day of Term 4
DESCRIPTION:
URL:https://www.holytrinity-gravesend.kent.sch.uk/event/last-day-of-term-4/
CATEGORIES:Term Dates
END:VEVENT
BEGIN:VEVENT
DTSTART;VALUE=DATE:20250314
DTEND;VALUE=DATE:20250315
DTSTAMP:20260423T054619
CREATED:20220907T114353Z
LAST-MODIFIED:20240729T200003Z
UID:12284-1741910400-1741996799@www.holytrinity-gravesend.kent.sch.uk
SUMMARY:Trust day - children not in school.
DESCRIPTION:
URL:https://www.holytrinity-gravesend.kent.sch.uk/event/trust-day-children-not-in-school-2/
CATEGORIES:Term Dates
END:VEVENT
BEGIN:VEVENT
DTSTART;VALUE=DATE:20250214
DTEND;VALUE=DATE:20250215
DTSTAMP:20260423T054619
CREATED:20220907T114153Z
LAST-MODIFIED:20240729T195920Z
UID:12280-1739491200-1739577599@www.holytrinity-gravesend.kent.sch.uk
SUMMARY:Last day of Term 3
DESCRIPTION:
URL:https://www.holytrinity-gravesend.kent.sch.uk/event/last-day-of-term-3/
CATEGORIES:Term Dates
END:VEVENT
BEGIN:VEVENT
DTSTART;VALUE=DATE:20250107
DTEND;VALUE=DATE:20250108
DTSTAMP:20260423T054619
CREATED:20220907T114153Z
LAST-MODIFIED:20240729T195944Z
UID:12281-1736208000-1736294399@www.holytrinity-gravesend.kent.sch.uk
SUMMARY:First day of Term 3.
DESCRIPTION:
URL:https://www.holytrinity-gravesend.kent.sch.uk/event/first-day-of-term-3-3/
CATEGORIES:Term Dates
END:VEVENT
BEGIN:VEVENT
DTSTART;VALUE=DATE:20250106
DTEND;VALUE=DATE:20250107
DTSTAMP:20260423T054619
CREATED:20220907T114553Z
LAST-MODIFIED:20240729T200106Z
UID:12290-1736121600-1736207999@www.holytrinity-gravesend.kent.sch.uk
SUMMARY:Staff inset day- children not in school.
DESCRIPTION:
URL:https://www.holytrinity-gravesend.kent.sch.uk/event/staff-inset-day-children-not-in-school-5/
CATEGORIES:Term Dates
END:VEVENT
BEGIN:VEVENT
DTSTART;VALUE=DATE:20241220
DTEND;VALUE=DATE:20241221
DTSTAMP:20260423T054619
CREATED:20231102T155645Z
LAST-MODIFIED:20240729T200314Z
UID:16435-1734652800-1734739199@www.holytrinity-gravesend.kent.sch.uk
SUMMARY:Last Day of Term 2
DESCRIPTION:
URL:https://www.holytrinity-gravesend.kent.sch.uk/event/last-day-of-term-1-30pm-finish/
CATEGORIES:Term Dates
END:VEVENT
BEGIN:VEVENT
DTSTART;VALUE=DATE:20241023
DTEND;VALUE=DATE:20241024
DTSTAMP:20260423T054619
CREATED:20231212T113514Z
LAST-MODIFIED:20240729T200340Z
UID:16515-1729641600-1729727999@www.holytrinity-gravesend.kent.sch.uk
SUMMARY:INSET day (School closed to pupils)
DESCRIPTION:
URL:https://www.holytrinity-gravesend.kent.sch.uk/event/inset-day-school-closed-to-pupils/
CATEGORIES:Term Dates
END:VEVENT
BEGIN:VEVENT
DTSTART;VALUE=DATE:20241022
DTEND;VALUE=DATE:20241023
DTSTAMP:20260423T054619
CREATED:20230926T153136Z
LAST-MODIFIED:20240729T200604Z
UID:16328-1729555200-1729641599@www.holytrinity-gravesend.kent.sch.uk
SUMMARY:Last Day of Term 1
DESCRIPTION:
URL:https://www.holytrinity-gravesend.kent.sch.uk/event/last-day-of-term-1/
CATEGORIES:Term Dates
END:VEVENT
BEGIN:VEVENT
DTSTART;VALUE=DATE:20240719
DTEND;VALUE=DATE:20240720
DTSTAMP:20260423T054619
CREATED:20231213T144153Z
LAST-MODIFIED:20231213T144153Z
UID:16638-1721347200-1721433599@www.holytrinity-gravesend.kent.sch.uk
SUMMARY:LAST DAY OF TERM 6
DESCRIPTION:
URL:https://www.holytrinity-gravesend.kent.sch.uk/event/last-day-of-term-6/
CATEGORIES:Term Dates
END:VEVENT
BEGIN:VEVENT
DTSTART;VALUE=DATE:20240701
DTEND;VALUE=DATE:20240702
DTSTAMP:20260423T054619
CREATED:20231213T142918Z
LAST-MODIFIED:20231213T142918Z
UID:16620-1719792000-1719878399@www.holytrinity-gravesend.kent.sch.uk
SUMMARY:Trust Development Day (School closed to pupils)
DESCRIPTION:
URL:https://www.holytrinity-gravesend.kent.sch.uk/event/trust-development-day-school-closed-to-pupils-2/
CATEGORIES:Term Dates
END:VEVENT
BEGIN:VEVENT
DTSTART;VALUE=DATE:20240603
DTEND;VALUE=DATE:20240604
DTSTAMP:20260423T054619
CREATED:20231212T134914Z
LAST-MODIFIED:20231212T134927Z
UID:16593-1717372800-1717459199@www.holytrinity-gravesend.kent.sch.uk
SUMMARY:TERM 6 STARTS
DESCRIPTION:
URL:https://www.holytrinity-gravesend.kent.sch.uk/event/term-6-starts/
CATEGORIES:Term Dates
END:VEVENT
BEGIN:VEVENT
DTSTART;VALUE=DATE:20240524
DTEND;VALUE=DATE:20240525
DTSTAMP:20260423T054619
CREATED:20231212T133657Z
LAST-MODIFIED:20231212T133657Z
UID:16591-1716508800-1716595199@www.holytrinity-gravesend.kent.sch.uk
SUMMARY:LAST DAY OF TERM 5
DESCRIPTION:
URL:https://www.holytrinity-gravesend.kent.sch.uk/event/last-day-of-term-5-2/
CATEGORIES:Term Dates
END:VEVENT
BEGIN:VEVENT
DTSTART;VALUE=DATE:20240415
DTEND;VALUE=DATE:20240416
DTSTAMP:20260423T054619
CREATED:20231212T131902Z
LAST-MODIFIED:20231212T131902Z
UID:16574-1713139200-1713225599@www.holytrinity-gravesend.kent.sch.uk
SUMMARY:TERM 5 STARTS
DESCRIPTION:
URL:https://www.holytrinity-gravesend.kent.sch.uk/event/term-5-starts/
CATEGORIES:Term Dates
END:VEVENT
BEGIN:VEVENT
DTSTART;VALUE=DATE:20240328
DTEND;VALUE=DATE:20240329
DTSTAMP:20260423T054619
CREATED:20231212T131518Z
LAST-MODIFIED:20231212T131525Z
UID:16567-1711584000-1711670399@www.holytrinity-gravesend.kent.sch.uk
SUMMARY:INSET Day
DESCRIPTION:
URL:https://www.holytrinity-gravesend.kent.sch.uk/event/school-inset-day/
CATEGORIES:Term Dates
END:VEVENT
BEGIN:VEVENT
DTSTART;TZID=Europe/London:20240327T080000
DTEND;TZID=Europe/London:20240327T133000
DTSTAMP:20260423T054619
CREATED:20231212T131436Z
LAST-MODIFIED:20231212T131605Z
UID:16565-1711526400-1711546200@www.holytrinity-gravesend.kent.sch.uk
SUMMARY:LAST DAY TERM 4 (School classes at 1:30pm)
DESCRIPTION:
URL:https://www.holytrinity-gravesend.kent.sch.uk/event/last-day-term-4-school-classes-at-130pm/
CATEGORIES:Term Dates
END:VEVENT
BEGIN:VEVENT
DTSTART;VALUE=DATE:20240219
DTEND;VALUE=DATE:20240220
DTSTAMP:20260423T054619
CREATED:20231212T120024Z
LAST-MODIFIED:20231212T120024Z
UID:16534-1708300800-1708387199@www.holytrinity-gravesend.kent.sch.uk
SUMMARY:TERM 4 STARTS
DESCRIPTION:
URL:https://www.holytrinity-gravesend.kent.sch.uk/event/term-4-starts/
CATEGORIES:Term Dates
END:VEVENT
BEGIN:VEVENT
DTSTART;VALUE=DATE:20240209
DTEND;VALUE=DATE:20240210
DTSTAMP:20260423T054619
CREATED:20231212T115958Z
LAST-MODIFIED:20231212T120411Z
UID:16532-1707436800-1707523199@www.holytrinity-gravesend.kent.sch.uk
SUMMARY:LAST DAY OF TERM
DESCRIPTION:
URL:https://www.holytrinity-gravesend.kent.sch.uk/event/last-day-of-term/
CATEGORIES:Term Dates
END:VEVENT
BEGIN:VEVENT
DTSTART;VALUE=DATE:20240107
DTEND;VALUE=DATE:20240108
DTSTAMP:20260423T054619
CREATED:20231212T113925Z
LAST-MODIFIED:20240729T200326Z
UID:16517-1704585600-1704671999@www.holytrinity-gravesend.kent.sch.uk
SUMMARY:TERM 3 STARTS
DESCRIPTION:
URL:https://www.holytrinity-gravesend.kent.sch.uk/event/term-3-starts/
CATEGORIES:Term Dates
END:VEVENT
BEGIN:VEVENT
DTSTART;VALUE=DATE:20230929
DTEND;VALUE=DATE:20230930
DTSTAMP:20260423T054619
CREATED:20230926T144247Z
LAST-MODIFIED:20230926T144326Z
UID:16305-1695945600-1696031999@www.holytrinity-gravesend.kent.sch.uk
SUMMARY:Trust Development Day
DESCRIPTION:School Closed to Pupils
URL:https://www.holytrinity-gravesend.kent.sch.uk/event/trust-development-day/
CATEGORIES:Term Dates
END:VEVENT
BEGIN:VEVENT
DTSTART;VALUE=DATE:20230830
DTEND;VALUE=DATE:20230831
DTSTAMP:20260423T054619
CREATED:20230926T142100Z
LAST-MODIFIED:20230926T142100Z
UID:16299-1693353600-1693439999@www.holytrinity-gravesend.kent.sch.uk
SUMMARY:Preparation Day
DESCRIPTION:
URL:https://www.holytrinity-gravesend.kent.sch.uk/event/preparation-day/
CATEGORIES:Term Dates
END:VEVENT
END:VCALENDAR