BEGIN:VCALENDAR
VERSION:2.0
PRODID:-//Holy Trinity C of E Nursery and Primary School - ECPv6.15.20//NONSGML v1.0//EN
CALSCALE:GREGORIAN
METHOD:PUBLISH
X-WR-CALNAME:Holy Trinity C of E Nursery and Primary School
X-ORIGINAL-URL:https://www.holytrinity-gravesend.kent.sch.uk
X-WR-CALDESC:Events for Holy Trinity C of E Nursery and Primary School
REFRESH-INTERVAL;VALUE=DURATION:PT1H
X-Robots-Tag:noindex
X-PUBLISHED-TTL:PT1H
BEGIN:VTIMEZONE
TZID:Europe/London
BEGIN:DAYLIGHT
TZOFFSETFROM:+0000
TZOFFSETTO:+0100
TZNAME:BST
DTSTART:20230326T010000
END:DAYLIGHT
BEGIN:STANDARD
TZOFFSETFROM:+0100
TZOFFSETTO:+0000
TZNAME:GMT
DTSTART:20231029T010000
END:STANDARD
BEGIN:DAYLIGHT
TZOFFSETFROM:+0000
TZOFFSETTO:+0100
TZNAME:BST
DTSTART:20240331T010000
END:DAYLIGHT
BEGIN:STANDARD
TZOFFSETFROM:+0100
TZOFFSETTO:+0000
TZNAME:GMT
DTSTART:20241027T010000
END:STANDARD
BEGIN:DAYLIGHT
TZOFFSETFROM:+0000
TZOFFSETTO:+0100
TZNAME:BST
DTSTART:20250330T010000
END:DAYLIGHT
BEGIN:STANDARD
TZOFFSETFROM:+0100
TZOFFSETTO:+0000
TZNAME:GMT
DTSTART:20251026T010000
END:STANDARD
END:VTIMEZONE
BEGIN:VEVENT
DTSTART;VALUE=DATE:20240327
DTEND;VALUE=DATE:20240328
DTSTAMP:20260419T193606
CREATED:20231212T131237Z
LAST-MODIFIED:20231212T131237Z
UID:16563-1711497600-1711583999@www.holytrinity-gravesend.kent.sch.uk
SUMMARY:Easter Church Service
DESCRIPTION:
URL:https://www.holytrinity-gravesend.kent.sch.uk/event/easter-church-service/
CATEGORIES:School
END:VEVENT
BEGIN:VEVENT
DTSTART;TZID=Europe/London:20240327T080000
DTEND;TZID=Europe/London:20240327T133000
DTSTAMP:20260419T193606
CREATED:20231212T131436Z
LAST-MODIFIED:20231212T131605Z
UID:16565-1711526400-1711546200@www.holytrinity-gravesend.kent.sch.uk
SUMMARY:LAST DAY TERM 4 (School classes at 1:30pm)
DESCRIPTION:
URL:https://www.holytrinity-gravesend.kent.sch.uk/event/last-day-term-4-school-classes-at-130pm/
CATEGORIES:Term Dates
END:VEVENT
END:VCALENDAR